BEGIN:VCALENDAR
VERSION:2.0
PRODID:-//jEvents 2.0 for Joomla//EN
CALSCALE:GREGORIAN
METHOD:PUBLISH
BEGIN:VTIMEZONE
TZID:Europe/Berlin
END:VTIMEZONE
BEGIN:VEVENT
UID:cf7414e6faa85aab9228ac88126da9ee
CATEGORIES:Männer, MU21, Frauen, FU21
CREATED:20260424T165948
SUMMARY:Landesrandori
LOCATION:Dojo der HTG Bad Homburg\, Niederstedter Weg 2 2\, 61348 Bad Homburg
DESCRIPTION;ENCODING=QUOTED-PRINTABLE:\n\nLandesrandori\n\n\nZielgruppe: Alle Judoka ab 16 Jahren\n\n\n&nbsp;\n\n
 \n1. TE 10:00 - 12:00\n\n\n2. TE 13:00 - 15:00\n\n\n&nbsp;\n\n\nEuer Landes
 trainerteam!\n
CONTACT:HJV Sportwarte
DTSTAMP:20260425T232005Z
DTSTART;TZID=Europe/Berlin;VALUE=DATE:20260501
DTEND;TZID=Europe/Berlin;VALUE=DATE:20260502
SEQUENCE:0
TRANSP:OPAQUE
END:VEVENT
END:VCALENDAR