BEGIN:VCALENDAR
VERSION:2.0
PRODID:-//jEvents 2.0 for Joomla//EN
CALSCALE:GREGORIAN
METHOD:PUBLISH
BEGIN:VTIMEZONE
TZID:Europe/Berlin
END:VTIMEZONE
BEGIN:VEVENT
UID:4a607faef95d2fc82886987a99e0fdc1
CATEGORIES:Breitensport, Lehrgänge
CREATED:20260420T082540
SUMMARY:Judobezogene Selbstverteidigung für Kinder & Jugendliche 
LOCATION:Frankfurt am Main
DESCRIPTION;ENCODING=QUOTED-PRINTABLE:<p>&nbsp;</p><p><strong><a href="images/2026/Ausschreibungen/Ausschreibung-
 SV-Kinder-2305.pdf" target="_blank">Ausschreibung</a></strong></p><p>&nbsp;
 </p><p>Bei Fragen wendet euch bitte an den Referenten für Breitensport Edua
 rd van Thurenhout (<span id="cloakd713d9be03a88a4e8ea0a554f540f8d5">Diese E
 -Mail-Adresse ist vor Spambots geschützt! Zur Anzeige muss JavaScript einge
 schaltet sein!</span><script type='text/javascript'>
				document.getElemen
 tById('cloakd713d9be03a88a4e8ea0a554f540f8d5').innerHTML = '';
				var pref
 ix = '&#109;a' + 'i&#108;' + '&#116;o';
				var path = 'hr' + 'ef' + '=';
	
 			var addyd713d9be03a88a4e8ea0a554f540f8d5 = 'v&#97;nth&#117;r&#101;nh&#11
 1;&#117;t' + '&#64;';
				addyd713d9be03a88a4e8ea0a554f540f8d5 = addyd713d9
 be03a88a4e8ea0a554f540f8d5 + 'h&#101;ss&#101;nj&#117;d&#111;' + '&#46;' + '
 d&#101;&gt;';
				var addy_textd713d9be03a88a4e8ea0a554f540f8d5 = 'v&#97;nt
 h&#117;r&#101;nh&#111;&#117;t' + '&#64;' + 'h&#101;ss&#101;nj&#117;d&#111;'
  + '&#46;' + 'd&#101;';document.getElementById('cloakd713d9be03a88a4e8ea0a5
 54f540f8d5').innerHTML += '<a ' + path + '\'' + prefix + ':' + addyd713d9be
 03a88a4e8ea0a554f540f8d5 + '\'>'+addy_textd713d9be03a88a4e8ea0a554f540f8d5+
 '<\/a>';
		</script>)</p><p>&nbsp;</p>
CONTACT:Eduard van Thurenhout
DTSTAMP:20260425T124727Z
DTSTART;TZID=Europe/Berlin;VALUE=DATE:20260523
DTEND;TZID=Europe/Berlin;VALUE=DATE:20260524
SEQUENCE:0
TRANSP:OPAQUE
END:VEVENT
END:VCALENDAR