BEGIN:VCALENDAR
VERSION:2.0
PRODID:-//jEvents 2.0 for Joomla//EN
CALSCALE:GREGORIAN
METHOD:PUBLISH
BEGIN:VTIMEZONE
TZID:Europe/Berlin
END:VTIMEZONE
BEGIN:VEVENT
UID:1381a5a03803490a622ae97ef6adf465
CATEGORIES:MU11, MU13, MU15, FU11, FU13, FU15
CREATED:20251008T121519
SUMMARY:BEM Bezirk West
LOCATION:Füllerstraße 3 61440 Oberursel
DESCRIPTION;ENCODING=QUOTED-PRINTABLE:<p>Meldschluss: 10.11.2025</p>
CONTACT:Simon Elhadj
DTSTAMP:20260424T225952Z
DTSTART;TZID=Europe/Berlin;VALUE=DATE:20251116
DTEND;TZID=Europe/Berlin;VALUE=DATE:20251117
SEQUENCE:0
TRANSP:OPAQUE
END:VEVENT
END:VCALENDAR