BEGIN:VCALENDAR
VERSION:2.0
PRODID:-//jEvents 2.0 for Joomla//EN
CALSCALE:GREGORIAN
METHOD:PUBLISH
BEGIN:VTIMEZONE
TZID:Europe/Berlin
END:VTIMEZONE
BEGIN:VEVENT
UID:a1aee3c5fc63e31a3fe4bd743737766b
CATEGORIES:Kata
CREATED:20250903T130501
SUMMARY:Lehrgang für LV-Kata-Wertungsrichter + Interessenten zum Kata Bewerter 
LOCATION:TGS Sportzentrum;Okrifteler Str. 6; 64546 Mörfelden Walldor
DESCRIPTION;ENCODING=QUOTED-PRINTABLE:<div class="viovendi-widget viovendi-booking-widget" data-viovendi-locale="
 en-us" data-viovendi-widget-config-name="booking-5182-91361" data-viovendi-
 event="197858" data-viovendi-organizer="5182">&nbsp;</div><script src="http
 s://doo.net/viovendi-embed.js" type="text/javascript" data-viovendi-version
 ="1"></script>
CONTACT:Werner Müller
DTSTAMP:20260424T104937Z
DTSTART;TZID=Europe/Berlin;VALUE=DATE:20251011
DTEND;TZID=Europe/Berlin;VALUE=DATE:20251012
SEQUENCE:0
TRANSP:OPAQUE
END:VEVENT
END:VCALENDAR