BEGIN:VCALENDAR
VERSION:2.0
PRODID:-//jEvents 2.0 for Joomla//EN
CALSCALE:GREGORIAN
METHOD:PUBLISH
BEGIN:VTIMEZONE
TZID:Europe/Berlin
END:VTIMEZONE
BEGIN:VEVENT
UID:b328b8516549459b9ae01f77c1d45a61
CATEGORIES:Männer, Frauen
CREATED:20241221T160301
SUMMARY:Süd West Deutsche Einzelmeisterschaft 
LOCATION:Overberghalle\, Overbergstraße 16\, 56427 Siershahn
DESCRIPTION;ENCODING=QUOTED-PRINTABLE:<p>SWDEM M/F</p>
CONTACT:Karoline Schmitz
DTSTAMP:20260423T165505Z
DTSTART;TZID=Europe/Berlin;VALUE=DATE:20250921
DTEND;TZID=Europe/Berlin;VALUE=DATE:20250922
SEQUENCE:0
TRANSP:OPAQUE
END:VEVENT
END:VCALENDAR