BEGIN:VCALENDAR
VERSION:2.0
PRODID:-//jEvents 2.0 for Joomla//EN
CALSCALE:GREGORIAN
METHOD:PUBLISH
BEGIN:VTIMEZONE
TZID:Europe/Berlin
END:VTIMEZONE
BEGIN:VEVENT
UID:3fa72670aad568e6c7b227fb4dc11039
CATEGORIES:Breitensport
CREATED:20241216T173122
SUMMARY:Breitensport Ü50
LOCATION:35435 Wettenberg / Krofdorf-Gleiberg\, Turnhallenstraße 		Mehrzweckhalle ne
 ben der Eduard-David Sporthalle 		TSV Krofdorf
DESCRIPTION;ENCODING=QUOTED-PRINTABLE:&nbsp;
CONTACT:Wolfgang Geissler
DTSTAMP:20260423T123017Z
DTSTART;TZID=Europe/Berlin;VALUE=DATE:20250914
DTEND;TZID=Europe/Berlin;VALUE=DATE:20250915
SEQUENCE:0
TRANSP:OPAQUE
END:VEVENT
END:VCALENDAR