BEGIN:VCALENDAR
VERSION:2.0
PRODID:-//jEvents 2.0 for Joomla//EN
CALSCALE:GREGORIAN
METHOD:PUBLISH
BEGIN:VTIMEZONE
TZID:Europe/Berlin
END:VTIMEZONE
BEGIN:VEVENT
UID:d0d2f30e4794e1f5750c0b662756d916
CATEGORIES:MU15, FU15
CREATED:20241105T120550
SUMMARY:Sichtungslehrgang U15 für den Kader 2025
LOCATION:Konrad-Adenauer-Ring 55 65187 Wiesbaden 
DESCRIPTION;ENCODING=QUOTED-PRINTABLE:<div class="viovendi-widget viovendi-booking-widget" data-viovendi-locale="
 de-de" data-viovendi-organizer="5182" data-viovendi-widget-config-name="boo
 king-5182-72866" data-viovendi-event="173534">&nbsp;</div><script src="http
 s://doo.net/viovendi-embed.js" type="text/javascript" data-viovendi-version
 ="1"></script>
CONTACT:HJV Jugendleitung 
DTSTAMP:20260424T134737Z
DTSTART;TZID=Europe/Berlin;VALUE=DATE:20241116
DTEND;TZID=Europe/Berlin;VALUE=DATE:20241117
SEQUENCE:0
TRANSP:OPAQUE
END:VEVENT
END:VCALENDAR