BEGIN:VCALENDAR
VERSION:2.0
PRODID:-//jEvents 2.0 for Joomla//EN
CALSCALE:GREGORIAN
METHOD:PUBLISH
BEGIN:VTIMEZONE
TZID:Europe/Berlin
END:VTIMEZONE
BEGIN:VEVENT
UID:460ceddf1a501123048ca2af6a7507d2
CATEGORIES:Männer, Frauen
CREATED:20240709T163311
SUMMARY:ABSAGE!  HEM M/F
LOCATION:Sporthalle in der Brüder-Grimm-Straße 14\, 34246 Vellmar
DESCRIPTION;ENCODING=QUOTED-PRINTABLE:\n\nWiegen 10:00 – 10:30 Uhr Frauen / 11:00 – 11:30 Uhr Männer\n
CONTACT:HJV Sportwarte
DTSTAMP:20260422T175938Z
DTSTART;TZID=Europe/Berlin;VALUE=DATE:20240914
DTEND;TZID=Europe/Berlin;VALUE=DATE:20240915
SEQUENCE:0
TRANSP:OPAQUE
END:VEVENT
END:VCALENDAR