BEGIN:VCALENDAR
VERSION:2.0
PRODID:-//jEvents 2.0 for Joomla//EN
CALSCALE:GREGORIAN
METHOD:PUBLISH
BEGIN:VTIMEZONE
TZID:Europe/Berlin
END:VTIMEZONE
BEGIN:VEVENT
UID:7c713210a94f85c234736434db715b1d
CATEGORIES:Breitensport
CREATED:20240708T100558
SUMMARY:Judo-SV im Breitensport: Module 1, 2 und 3
LOCATION:Blau Gelb Marburg\, Am Schlag 8\, 35037 Marburg
DESCRIPTION;ENCODING=QUOTED-PRINTABLE:<div class="viovendi-widget viovendi-booking-widget" data-viovendi-locale="
 de-de" data-viovendi-organizer="5182" data-viovendi-widget-config-name="boo
 king-5182-67073" data-viovendi-event="164704">&nbsp;</div><script src="http
 s://doo.net/viovendi-embed.js" type="text/javascript" data-viovendi-version
 ="1"></script>
CONTACT:Eduard Van Thurenhout
DTSTAMP:20260424T195523Z
DTSTART;TZID=Europe/Berlin;VALUE=DATE:20241124
DTEND;TZID=Europe/Berlin;VALUE=DATE:20241125
SEQUENCE:0
TRANSP:OPAQUE
END:VEVENT
END:VCALENDAR