BEGIN:VCALENDAR
VERSION:2.0
PRODID:-//jEvents 2.0 for Joomla//EN
CALSCALE:GREGORIAN
METHOD:PUBLISH
BEGIN:VTIMEZONE
TZID:Europe/Berlin
END:VTIMEZONE
BEGIN:VEVENT
UID:096f17a0fd1c5490b7e1638de3546e23
CATEGORIES:Breitensport
CREATED:20240708T100341
SUMMARY:Judo-SV im Breitensport: Modul 3
LOCATION:TV Lorsch\, Sportpark Ehlried\, Ludwig-Gärtner-Str. 3-6\, 6453 Lorsch
DESCRIPTION;ENCODING=QUOTED-PRINTABLE:<div class="viovendi-widget viovendi-booking-widget" data-viovendi-locale="
 de-de" data-viovendi-organizer="5182" data-viovendi-widget-config-name="boo
 king-5182-67071" data-viovendi-event="164290">&nbsp;</div><script src="http
 s://doo.net/viovendi-embed.js" type="text/javascript" data-viovendi-version
 ="1"></script>
CONTACT:Eduard Van Thurenhout
DTSTAMP:20260424T120959Z
DTSTART;TZID=Europe/Berlin;VALUE=DATE:20241103
DTEND;TZID=Europe/Berlin;VALUE=DATE:20241104
SEQUENCE:0
TRANSP:OPAQUE
END:VEVENT
END:VCALENDAR