BEGIN:VCALENDAR
VERSION:2.0
PRODID:-//jEvents 2.0 for Joomla//EN
CALSCALE:GREGORIAN
METHOD:PUBLISH
BEGIN:VTIMEZONE
TZID:Europe/Berlin
END:VTIMEZONE
BEGIN:VEVENT
UID:46bea0fe0ab8505caec96f420f9458e7
CATEGORIES:Wettkampfsport, Männer
CREATED:20240610T141459
SUMMARY:Landesliga 2024 
LOCATION:Sporthalle der Fürst Johann Ludwig Schule\, Freiherr-vom- Stein- Straße 20 
 in 65589 Hadamar
DESCRIPTION;ENCODING=QUOTED-PRINTABLE:<div class="viovendi-widget viovendi-booking-widget" data-viovendi-locale="
 de-de" data-viovendi-organizer="5182" data-viovendi-widget-config-name="boo
 king-5182-66063" data-viovendi-event="162616">&nbsp;</div><script src="http
 s://doo.net/viovendi-embed.js" type="text/javascript"></script>
CONTACT:Ralf Bacher
DTSTAMP:20260424T112236Z
DTSTART;TZID=Europe/Berlin;VALUE=DATE:20240928
DTEND;TZID=Europe/Berlin;VALUE=DATE:20240929
SEQUENCE:0
TRANSP:OPAQUE
END:VEVENT
END:VCALENDAR