BEGIN:VCALENDAR
VERSION:2.0
PRODID:-//jEvents 2.0 for Joomla//EN
CALSCALE:GREGORIAN
METHOD:PUBLISH
BEGIN:VTIMEZONE
TZID:Europe/Berlin
END:VTIMEZONE
BEGIN:VEVENT
UID:3aaede1db87e995363a61f757948f08b
CATEGORIES:Breitensport, Kata
CREATED:20240402T143419
SUMMARY:Breitensport – Lehrgang Kodokan goshin jitsu
LOCATION:Griesheim
DESCRIPTION;ENCODING=QUOTED-PRINTABLE:&nbsp;
CONTACT:Fabian Spamer
DTSTAMP:20260424T134823Z
DTSTART;TZID=Europe/Berlin;VALUE=DATE:20240414
DTEND;TZID=Europe/Berlin;VALUE=DATE:20240415
SEQUENCE:0
TRANSP:OPAQUE
END:VEVENT
END:VCALENDAR