BEGIN:VCALENDAR
VERSION:2.0
PRODID:-//jEvents 2.0 for Joomla//EN
CALSCALE:GREGORIAN
METHOD:PUBLISH
BEGIN:VTIMEZONE
TZID:Europe/Berlin
END:VTIMEZONE
BEGIN:VEVENT
UID:fba2285f9d9bffcf73adee359f484dfc
CATEGORIES:Kata
CREATED:20240305T190928
SUMMARY:Ausbildung zum  Landes-Kata-Wertungsrichter
LOCATION:Köln
DESCRIPTION;ENCODING=QUOTED-PRINTABLE:\n\nAusbildung zum&nbsp;Landes-Kata-Wertungsrichter\n
DTSTAMP:20260424T164046Z
DTSTART;TZID=Europe/Berlin;VALUE=DATE:20240426
DTEND;TZID=Europe/Berlin;VALUE=DATE:20240429
SEQUENCE:0
TRANSP:OPAQUE
END:VEVENT
END:VCALENDAR