BEGIN:VCALENDAR
VERSION:2.0
PRODID:-//jEvents 2.0 for Joomla//EN
CALSCALE:GREGORIAN
METHOD:PUBLISH
BEGIN:VTIMEZONE
TZID:Europe/Berlin
END:VTIMEZONE
BEGIN:VEVENT
UID:1625beda936aae578144974299b0b883
CATEGORIES:Handycap-Judo
CREATED:20240210T102924
SUMMARY:IBSA Judo Grand Prix 2024 
LOCATION:Heidelberg
DESCRIPTION;ENCODING=QUOTED-PRINTABLE:\n\nhttps://ibsajudo.sport/event/2024-ibsa-judo-grand-prix-ger-heidelberg/\
 n
DTSTAMP:20260424T180832Z
DTSTART;TZID=Europe/Berlin;VALUE=DATE:20240214
DTEND;TZID=Europe/Berlin;VALUE=DATE:20240218
SEQUENCE:0
TRANSP:OPAQUE
END:VEVENT
END:VCALENDAR