BEGIN:VCALENDAR
VERSION:2.0
PRODID:-//jEvents 2.0 for Joomla//EN
CALSCALE:GREGORIAN
METHOD:PUBLISH
BEGIN:VTIMEZONE
TZID:Europe/Berlin
END:VTIMEZONE
BEGIN:VEVENT
UID:95be1fa0ba65ebce3c50f2e735daaf7b
CATEGORIES:MÜ30, FÜ30
CREATED:20240110T150516
SUMMARY:European Cup - Warschau
LOCATION:Warschau
DESCRIPTION;ENCODING=QUOTED-PRINTABLE:<p>European Cup - Warschau</p>
DTSTAMP:20260422T164223Z
DTSTART;TZID=Europe/Berlin;VALUE=DATE:20240420
DTEND;TZID=Europe/Berlin;VALUE=DATE:20240421
SEQUENCE:0
TRANSP:OPAQUE
END:VEVENT
END:VCALENDAR