BEGIN:VCALENDAR
VERSION:2.0
PRODID:-//jEvents 2.0 for Joomla//EN
CALSCALE:GREGORIAN
METHOD:PUBLISH
BEGIN:VTIMEZONE
TZID:Europe/Berlin
END:VTIMEZONE
BEGIN:VEVENT
UID:cad580661460f45fe8269eb44675b0e1
CATEGORIES:MÜ30, FÜ30
CREATED:20240110T150357
SUMMARY:Deutsche Veteranen Meisterschaft 
LOCATION:Nürburg
DESCRIPTION;ENCODING=QUOTED-PRINTABLE:<p>Deutsche Veteranen Meisterschaft</p><p><a href="https://www.judobund.de/
 aktuelles/termine#434763">https://www.judobund.de/aktuelles/termine#434763<
 /a></p><p><a href="https://api.dokume.net/functions.php/storage/publiclink/
 cmRFRW5veXptTVc0bTI5RndpSFRSRTZqcEd1a3N6bnpDTHc9/inline">https://api.dokume
 .net/functions.php/storage/publiclink/cmRFRW5veXptTVc0bTI5RndpSFRSRTZqcEd1a
 3N6bnpDTHc9/inline</a>&nbsp;</p><p>&nbsp;</p>
DTSTAMP:20260422T151825Z
DTSTART;TZID=Europe/Berlin;VALUE=DATE:20240413
DTEND;TZID=Europe/Berlin;VALUE=DATE:20240415
SEQUENCE:0
TRANSP:OPAQUE
END:VEVENT
END:VCALENDAR