BEGIN:VCALENDAR
VERSION:2.0
PRODID:-//jEvents 2.0 for Joomla//EN
CALSCALE:GREGORIAN
METHOD:PUBLISH
BEGIN:VTIMEZONE
TZID:Europe/Berlin
END:VTIMEZONE
BEGIN:VEVENT
UID:ed8b0605b402ac6d764ca39c120f01fe
CATEGORIES:MU11, MU13, MU15, MU18, FU11, FU13, FU15, FU18
CREATED:20240106T150830
SUMMARY:HJV- Bezirk Ost Randori-Lehrgang
LOCATION:61137 Schöneck-Kilianstädten\, Friedrich-Ebert-Schule\, B l e i c h s t r a
  ß e
DESCRIPTION;ENCODING=QUOTED-PRINTABLE:\n\nZeit:&nbsp; 13.00 - 17.30 Uhr\n
CONTACT:Julian Jungermann
DTSTAMP:20260424T130239Z
DTSTART;TZID=Europe/Berlin;VALUE=DATE:20240420
DTEND;TZID=Europe/Berlin;VALUE=DATE:20240421
SEQUENCE:0
TRANSP:OPAQUE
END:VEVENT
END:VCALENDAR