BEGIN:VCALENDAR
VERSION:2.0
PRODID:-//jEvents 2.0 for Joomla//EN
CALSCALE:GREGORIAN
METHOD:PUBLISH
BEGIN:VTIMEZONE
TZID:Europe/Berlin
END:VTIMEZONE
BEGIN:VEVENT
UID:bd866a0249f7627780620a3edbabca4f
CATEGORIES:Prüfungswesen
CREATED:20231229T115014
SUMMARY:Dan-Master-Class Lehrgang
LOCATION:Maintal
DESCRIPTION;ENCODING=QUOTED-PRINTABLE:&nbsp;
DTSTAMP:20260424T212936Z
DTSTART;TZID=Europe/Berlin;VALUE=DATE:20240928
DTEND;TZID=Europe/Berlin;VALUE=DATE:20240929
SEQUENCE:0
TRANSP:OPAQUE
END:VEVENT
END:VCALENDAR