BEGIN:VCALENDAR
VERSION:2.0
PRODID:-//jEvents 2.0 for Joomla//EN
CALSCALE:GREGORIAN
METHOD:PUBLISH
BEGIN:VTIMEZONE
TZID:Europe/Berlin
END:VTIMEZONE
BEGIN:VEVENT
UID:3f656c74040f09286523b4266dcb6ce9
CATEGORIES:Prüfungswesen
CREATED:20231229T114624
SUMMARY:Dan-Vorbereitungslehrgang
LOCATION:Krofdorf-Gleiberg
DESCRIPTION;ENCODING=QUOTED-PRINTABLE:&nbsp;
DTSTAMP:20260424T195247Z
DTSTART;TZID=Europe/Berlin;VALUE=DATE:20240421
DTEND;TZID=Europe/Berlin;VALUE=DATE:20240422
SEQUENCE:0
TRANSP:OPAQUE
END:VEVENT
END:VCALENDAR