BEGIN:VCALENDAR
VERSION:2.0
PRODID:-//jEvents 2.0 for Joomla//EN
CALSCALE:GREGORIAN
METHOD:PUBLISH
BEGIN:VTIMEZONE
TZID:Europe/Berlin
END:VTIMEZONE
BEGIN:VEVENT
UID:63f223a479c52a98214d4c4fde77e34a
CATEGORIES:Prüfungswesen
CREATED:20231229T114523
SUMMARY:Kyu-Prüfer-Lizenz Lehrgang
LOCATION:Maintal
DESCRIPTION;ENCODING=QUOTED-PRINTABLE:<div class="viovendi-widget viovendi-booking-widget" data-viovendi-locale="
 de-de" data-viovendi-organizer="5182" data-viovendi-widget-config-name="boo
 king-5182-55712" data-viovendi-event="148126">&nbsp;</div><script src="http
 s://doo.net/viovendi-embed.js" type="text/javascript" data-viovendi-version
 ="1"></script>
DTSTAMP:20260422T164239Z
DTSTART;TZID=Europe/Berlin;VALUE=DATE:20240414
DTEND;TZID=Europe/Berlin;VALUE=DATE:20240415
SEQUENCE:0
TRANSP:OPAQUE
END:VEVENT
END:VCALENDAR