BEGIN:VCALENDAR
VERSION:2.0
PRODID:-//jEvents 2.0 for Joomla//EN
CALSCALE:GREGORIAN
METHOD:PUBLISH
BEGIN:VTIMEZONE
TZID:Europe/Berlin
END:VTIMEZONE
BEGIN:VEVENT
UID:bdedcb46acfdd8f4bd72cff43e7240d8
CATEGORIES:MU17, FU17
CREATED:20231227T140616
SUMMARY:Ausbildungslehrgang
LOCATION:Kienbaum
DESCRIPTION;ENCODING=QUOTED-PRINTABLE:<p>Ausbildungslehrgang&nbsp;U17</p>
DTSTAMP:20260424T121004Z
DTSTART;TZID=Europe/Berlin;VALUE=DATE:20241120
DTEND;TZID=Europe/Berlin;VALUE=DATE:20241125
SEQUENCE:0
TRANSP:OPAQUE
END:VEVENT
END:VCALENDAR