BEGIN:VCALENDAR
VERSION:2.0
PRODID:-//jEvents 2.0 for Joomla//EN
CALSCALE:GREGORIAN
METHOD:PUBLISH
BEGIN:VTIMEZONE
TZID:Europe/Berlin
END:VTIMEZONE
BEGIN:VEVENT
UID:22869e72e3c087f9f95052edc2873258
CATEGORIES:MU20, FU20
CREATED:20231227T140325
SUMMARY:Internationales Bundes Sichtungsturnier U20  
LOCATION:Lilli-Gräber-Sporthalle\, Mannheim-Friedrichsfeld
DESCRIPTION;ENCODING=QUOTED-PRINTABLE:\n\n47. Wolfgang-Welz-Gedächtnis-Turnier\n\n\n\n\n&nbsp;\n
DTSTAMP:20260422T164126Z
DTSTART;TZID=Europe/Berlin;VALUE=DATE:20241109
DTEND;TZID=Europe/Berlin;VALUE=DATE:20241110
SEQUENCE:0
TRANSP:OPAQUE
END:VEVENT
END:VCALENDAR