BEGIN:VCALENDAR
VERSION:2.0
PRODID:-//jEvents 2.0 for Joomla//EN
CALSCALE:GREGORIAN
METHOD:PUBLISH
BEGIN:VTIMEZONE
TZID:Europe/Berlin
END:VTIMEZONE
BEGIN:VEVENT
UID:4b71dc9873a7de7fcc9eb07f0364ac8b
CATEGORIES:Männer, Frauen
CREATED:20231227T133117
SUMMARY:Grand Prix
LOCATION:Zagreb
DESCRIPTION;ENCODING=QUOTED-PRINTABLE:\n\nGP Zagreb\n
DTSTAMP:20260424T193826Z
DTSTART;TZID=Europe/Berlin;VALUE=DATE:20240913
DTEND;TZID=Europe/Berlin;VALUE=DATE:20240916
SEQUENCE:0
TRANSP:OPAQUE
END:VEVENT
END:VCALENDAR