BEGIN:VCALENDAR
VERSION:2.0
PRODID:-//jEvents 2.0 for Joomla//EN
CALSCALE:GREGORIAN
METHOD:PUBLISH
BEGIN:VTIMEZONE
TZID:Europe/Berlin
END:VTIMEZONE
BEGIN:VEVENT
UID:1ad8e4521daef89b3e7c5385ed1d0e3a
CATEGORIES:Männer
CREATED:20231227T132906
SUMMARY:BuLi
LOCATION:N. N.
DESCRIPTION;ENCODING=QUOTED-PRINTABLE:\n\n07.09.24\n- (GER)2.Bundesliga Männer Kampftag 7\nAllgemein, DJB Highlig
 ht, Topsport\n07.09.24\n- (GER)1.Bundesliga Männer Kampftag 7\nAllgemein, D
 JB Highlight, Topsport\n
DTSTAMP:20260424T193841Z
DTSTART;TZID=Europe/Berlin;VALUE=DATE:20240907
DTEND;TZID=Europe/Berlin;VALUE=DATE:20240908
SEQUENCE:0
TRANSP:OPAQUE
END:VEVENT
END:VCALENDAR