BEGIN:VCALENDAR
VERSION:2.0
PRODID:-//jEvents 2.0 for Joomla//EN
CALSCALE:GREGORIAN
METHOD:PUBLISH
BEGIN:VTIMEZONE
TZID:Europe/Berlin
END:VTIMEZONE
BEGIN:VEVENT
UID:2c327d04e8df219dcd74a994bece30f4
CATEGORIES:Männer, Frauen
CREATED:20231227T123352
SUMMARY:BuLi
LOCATION:N. N.
DESCRIPTION;ENCODING=QUOTED-PRINTABLE:\n\n27.04.24\n- (GER)2.Bundesliga Männer Kampftag 2\nAllgemein, DJB Highlig
 ht, Topsport\n27.04.24\n- (GER)1.Bundesliga Männer Kampftag 2\nAllgemein, D
 JB Highlight, Topsport\n27.04.24\n- (GER)1.Bundesliga Frauen Kampftag 3\nAl
 lgemein, DJB Highlight, Topsport\n
DTSTAMP:20260424T164022Z
DTSTART;TZID=Europe/Berlin;VALUE=DATE:20240427
DTEND;TZID=Europe/Berlin;VALUE=DATE:20240428
SEQUENCE:0
TRANSP:OPAQUE
END:VEVENT
END:VCALENDAR