BEGIN:VCALENDAR
VERSION:2.0
PRODID:-//jEvents 2.0 for Joomla//EN
CALSCALE:GREGORIAN
METHOD:PUBLISH
BEGIN:VTIMEZONE
TZID:Europe/Berlin
END:VTIMEZONE
BEGIN:VEVENT
UID:f4a301b7ef85f065c8d35dd46759da72
CATEGORIES:MU21, FU21
CREATED:20231227T123251
SUMMARY:Training Camp U21 Ligano/ITA
LOCATION:Lugano
DESCRIPTION;ENCODING=QUOTED-PRINTABLE:<p>TC U21<br />Ligano/ITA</p>
DTSTAMP:20260422T163404Z
DTSTART;TZID=Europe/Berlin;VALUE=DATE:20240422
DTEND;TZID=Europe/Berlin;VALUE=DATE:20240424
SEQUENCE:0
TRANSP:OPAQUE
END:VEVENT
END:VCALENDAR