BEGIN:VCALENDAR
VERSION:2.0
PRODID:-//jEvents 2.0 for Joomla//EN
CALSCALE:GREGORIAN
METHOD:PUBLISH
BEGIN:VTIMEZONE
TZID:Europe/Berlin
END:VTIMEZONE
BEGIN:VEVENT
UID:472e59a733dfeae94504e97c620fbf3d
CATEGORIES:MU21, FU21
CREATED:20231227T123155
SUMMARY:European Cup U21 Ligano/ITA
LOCATION:Ligano
DESCRIPTION;ENCODING=QUOTED-PRINTABLE:<p>EC U21<br />Ligano/ITA</p>
DTSTAMP:20260422T164228Z
DTSTART;TZID=Europe/Berlin;VALUE=DATE:20240420
DTEND;TZID=Europe/Berlin;VALUE=DATE:20240422
SEQUENCE:0
TRANSP:OPAQUE
END:VEVENT
END:VCALENDAR