BEGIN:VCALENDAR
VERSION:2.0
PRODID:-//jEvents 2.0 for Joomla//EN
CALSCALE:GREGORIAN
METHOD:PUBLISH
BEGIN:VTIMEZONE
TZID:Europe/Berlin
END:VTIMEZONE
BEGIN:VEVENT
UID:09f17356a0887736492ecc85981ca85f
CATEGORIES:FU16
CREATED:20231227T122800
SUMMARY:Fu16 Düsseldorf (LT)
LOCATION:Düsseldorf
DESCRIPTION;ENCODING=QUOTED-PRINTABLE:\n\nFu16 Düsseldorf (LT)\n
DTSTAMP:20260424T195251Z
DTSTART;TZID=Europe/Berlin;VALUE=DATE:20240420
DTEND;TZID=Europe/Berlin;VALUE=DATE:20240421
SEQUENCE:0
TRANSP:OPAQUE
END:VEVENT
END:VCALENDAR