BEGIN:VCALENDAR
VERSION:2.0
PRODID:-//jEvents 2.0 for Joomla//EN
CALSCALE:GREGORIAN
METHOD:PUBLISH
BEGIN:VTIMEZONE
TZID:Europe/Berlin
END:VTIMEZONE
BEGIN:VEVENT
UID:12e3e2ec55341a3402d195ef72ded4e3
CATEGORIES:Wettkampfsport, Kata
CREATED:20231227T122600
SUMMARY:Kata Seminar 
LOCATION:Köln
DESCRIPTION;ENCODING=QUOTED-PRINTABLE:<p>Kata Seminar&nbsp;</p>
DTSTAMP:20260422T161313Z
DTSTART;TZID=Europe/Berlin;VALUE=DATE:20240426
DTEND;TZID=Europe/Berlin;VALUE=DATE:20240429
SEQUENCE:0
TRANSP:OPAQUE
END:VEVENT
END:VCALENDAR