BEGIN:VCALENDAR
VERSION:2.0
PRODID:-//jEvents 2.0 for Joomla//EN
CALSCALE:GREGORIAN
METHOD:PUBLISH
BEGIN:VTIMEZONE
TZID:Europe/Berlin
END:VTIMEZONE
BEGIN:VEVENT
UID:a1c8183f70ea19e6c4113a8f777b8edb
CATEGORIES:MU18, FU18
CREATED:20231227T121921
SUMMARY:European Cup U18 Berlin/GER
LOCATION:Berlin
DESCRIPTION;ENCODING=QUOTED-PRINTABLE:\n\nEC u18\nBerlin/GER\n
DTSTAMP:20260424T133341Z
DTSTART;TZID=Europe/Berlin;VALUE=DATE:20240413
DTEND;TZID=Europe/Berlin;VALUE=DATE:20240415
SEQUENCE:0
TRANSP:OPAQUE
END:VEVENT
END:VCALENDAR