BEGIN:VCALENDAR
VERSION:2.0
PRODID:-//jEvents 2.0 for Joomla//EN
CALSCALE:GREGORIAN
METHOD:PUBLISH
BEGIN:VTIMEZONE
TZID:Europe/Berlin
END:VTIMEZONE
BEGIN:VEVENT
UID:7ab7199648ddba1be0af299375fe0077
CATEGORIES:MU18, FU18
CREATED:20231227T121824
SUMMARY:Internationales Training Camp u18 Teplice/CZE
LOCATION:Teplice
DESCRIPTION;ENCODING=QUOTED-PRINTABLE:\n\nITC u18\nTeplice/CZE\n
DTSTAMP:20260424T134756Z
DTSTART;TZID=Europe/Berlin;VALUE=DATE:20240408
DTEND;TZID=Europe/Berlin;VALUE=DATE:20240411
SEQUENCE:0
TRANSP:OPAQUE
END:VEVENT
END:VCALENDAR