BEGIN:VCALENDAR
VERSION:2.0
PRODID:-//jEvents 2.0 for Joomla//EN
CALSCALE:GREGORIAN
METHOD:PUBLISH
BEGIN:VTIMEZONE
TZID:Europe/Berlin
END:VTIMEZONE
BEGIN:VEVENT
UID:d95ef0c494091febffff0133801a6995
CATEGORIES:MU18, FU18
CREATED:20231227T121647
SUMMARY:European Cup u18 Teplice/CZE
LOCATION:Teplice
DESCRIPTION;ENCODING=QUOTED-PRINTABLE:<p>EC u18<br />Teplice/CZE</p>
DTSTAMP:20260422T151820Z
DTSTART;TZID=Europe/Berlin;VALUE=DATE:20240406
DTEND;TZID=Europe/Berlin;VALUE=DATE:20240408
SEQUENCE:0
TRANSP:OPAQUE
END:VEVENT
END:VCALENDAR