BEGIN:VCALENDAR
VERSION:2.0
PRODID:-//jEvents 2.0 for Joomla//EN
CALSCALE:GREGORIAN
METHOD:PUBLISH
BEGIN:VTIMEZONE
TZID:Europe/Berlin
END:VTIMEZONE
BEGIN:VEVENT
UID:119c3860ed84173cf6280aa835f0ee03
CATEGORIES:Kata
CREATED:20231214T205851
SUMMARY:Kata im Breitensport: Katame-no-kata und Koshiki-no-kata
LOCATION:Dortelweil
DESCRIPTION;ENCODING=QUOTED-PRINTABLE:<div class="viovendi-widget viovendi-booking-widget" data-viovendi-locale="
 de-de" data-viovendi-organizer="5182" data-viovendi-widget-config-name="boo
 king-5182-55983" data-viovendi-event="148647">&nbsp;</div><script src="http
 s://doo.net/viovendi-embed.js" type="text/javascript" data-viovendi-version
 ="1"></script><div class="viovendi-widget viovendi-booking-widget" data-vio
 vendi-locale="de-de" data-viovendi-organizer="5182" data-viovendi-widget-co
 nfig-name="booking-5182-55983" data-viovendi-event="148647">&nbsp;</div><sc
 ript src="https://doo.net/viovendi-embed.js" type="text/javascript" data-vi
 ovendi-version="1"></script>
DTSTAMP:20260422T151136Z
DTSTART;TZID=Europe/Berlin;VALUE=DATE:20240420
DTEND;TZID=Europe/Berlin;VALUE=DATE:20240421
SEQUENCE:0
TRANSP:OPAQUE
END:VEVENT
END:VCALENDAR