BEGIN:VCALENDAR
VERSION:2.0
PRODID:-//jEvents 2.0 for Joomla//EN
CALSCALE:GREGORIAN
METHOD:PUBLISH
BEGIN:VTIMEZONE
TZID:Europe/Berlin
END:VTIMEZONE
BEGIN:VEVENT
UID:494d020a70c0c9f855b5c69b60cf8c2a
CATEGORIES:Breitensport
CREATED:20231205T171140
SUMMARY:Breitensport Judo Ü50
LOCATION:Gambach
DESCRIPTION;ENCODING=QUOTED-PRINTABLE: &nbsp;<div class="viovendi-widget viovendi-booking-widget" data-viovendi-l
 ocale="de-de" data-viovendi-organizer="5182" data-viovendi-widget-config-na
 me="booking-5182-55355" data-viovendi-event="147757">&nbsp;</div><script sr
 c="https://doo.net/viovendi-embed.js" type="text/javascript" data-viovendi-
 version="1"></script>
DTSTAMP:20260421T115107Z
DTSTART;TZID=Europe/Berlin;VALUE=DATE:20241006
DTEND;TZID=Europe/Berlin;VALUE=DATE:20241007
SEQUENCE:0
TRANSP:OPAQUE
END:VEVENT
END:VCALENDAR