BEGIN:VCALENDAR
VERSION:2.0
PRODID:-//jEvents 2.0 for Joomla//EN
CALSCALE:GREGORIAN
METHOD:PUBLISH
BEGIN:VTIMEZONE
TZID:Europe/Berlin
END:VTIMEZONE
BEGIN:VEVENT
UID:4a1bc255c7c41da7008a4a910023c2d8
CATEGORIES:Breitensport
CREATED:20231205T170001
SUMMARY:Breitensport Judo Ü50
LOCATION:Krofdorf
DESCRIPTION;ENCODING=QUOTED-PRINTABLE:<div class="viovendi-widget viovendi-booking-widget" data-viovendi-locale="
 de-de" data-viovendi-organizer="5182" data-viovendi-widget-config-name="boo
 king-5182-55343" data-viovendi-event="147750">&nbsp;</div><script src="http
 s://doo.net/viovendi-embed.js" type="text/javascript" data-viovendi-version
 ="1"></script>
DTSTAMP:20260420T134727Z
DTSTART;TZID=Europe/Berlin;VALUE=DATE:20240407
DTEND;TZID=Europe/Berlin;VALUE=DATE:20240408
SEQUENCE:0
TRANSP:OPAQUE
END:VEVENT
END:VCALENDAR