BEGIN:VCALENDAR
VERSION:2.0
PRODID:-//jEvents 2.0 for Joomla//EN
CALSCALE:GREGORIAN
METHOD:PUBLISH
BEGIN:VTIMEZONE
TZID:Europe/Berlin
END:VTIMEZONE
BEGIN:VEVENT
UID:f1267e067848f1d5e94b1c6f0392d08d
CATEGORIES:Wettkampfsport
CREATED:20231112T181432
SUMMARY:JtfO 2024
LOCATION:Austragungsort: Brüder-Grimm-Halle / Mehrzweckhalle Brüder-Grimm-Str. 14 34
 246 Vellmar
DESCRIPTION;ENCODING=QUOTED-PRINTABLE:\n\nMeldeschluss:19.4.2024\nMeldeschluss für Mannschaftslisten 02.06.2024\n
 Meldungen sind nur über das Online Meldesystem möglich\n
CONTACT:Rainer Dötsch
DTSTAMP:20260424T181334Z
DTSTART;TZID=Europe/Berlin;VALUE=DATE:20240916
DTEND;TZID=Europe/Berlin;VALUE=DATE:20240920
SEQUENCE:0
TRANSP:OPAQUE
END:VEVENT
END:VCALENDAR