BEGIN:VCALENDAR
VERSION:2.0
PRODID:-//jEvents 2.0 for Joomla//EN
CALSCALE:GREGORIAN
METHOD:PUBLISH
BEGIN:VTIMEZONE
TZID:Europe/Berlin
END:VTIMEZONE
BEGIN:VEVENT
UID:860c10380a7dbfa23202b9e5f3fdca4e
CATEGORIES:Wettkampfsport, Männer, Frauen
CREATED:20231110T133221
SUMMARY:SWDEM M/F
LOCATION:Judosportzentrum Speyer\, Butenschönstraße 8\, 67346 Speyer
DESCRIPTION;ENCODING=QUOTED-PRINTABLE:\n\nWaage Männer: 10:00 – 10:45 Uhr anschließend Wettkampfbeginn\nWaage Fra
 uen: 11:00 – 10:30 Uhr anschließend Wettkampfbeginn\n
CONTACT:Karolin Schmitz
DTSTAMP:20260422T175949Z
DTSTART;TZID=Europe/Berlin;VALUE=DATE:20240921
DTEND;TZID=Europe/Berlin;VALUE=DATE:20240922
SEQUENCE:0
TRANSP:OPAQUE
END:VEVENT
END:VCALENDAR