BEGIN:VCALENDAR
VERSION:2.0
PRODID:-//jEvents 2.0 for Joomla//EN
CALSCALE:GREGORIAN
METHOD:PUBLISH
BEGIN:VTIMEZONE
TZID:Europe/Berlin
END:VTIMEZONE
BEGIN:VEVENT
UID:4db8e879975edf56dd6a732285f48f90
CATEGORIES:Breitensport
CREATED:20240110T145558
SUMMARY:Veteranen Randori
LOCATION:Bad Homburg
DESCRIPTION;ENCODING=QUOTED-PRINTABLE:&nbsp;
DTSTAMP:20260421T185907Z
DTSTART;TZID=Europe/Berlin;VALUE=DATE:20240602
DTEND;TZID=Europe/Berlin;VALUE=DATE:20240603
SEQUENCE:0
TRANSP:OPAQUE
END:VEVENT
END:VCALENDAR