BEGIN:VCALENDAR
VERSION:2.0
PRODID:-//jEvents 2.0 for Joomla//EN
CALSCALE:GREGORIAN
METHOD:PUBLISH
BEGIN:VTIMEZONE
TZID:Europe/Berlin
BEGIN:STANDARD
DTSTART:20221030T020000
RDATE:20230326T030000
TZOFFSETFROM:+0200
TZOFFSETTO:+0100
TZNAME:Europe/Berlin CET
END:STANDARD
BEGIN:DAYLIGHT
DTSTART:20220901T000000
RDATE:20221030T020000
TZOFFSETFROM:+0100
TZOFFSETTO:+0200
TZNAME:Europe/Berlin CEST
END:DAYLIGHT
END:VTIMEZONE
BEGIN:VEVENT
UID:0bafd490c6e4e79c1f8ce758f8cb8a5b
CATEGORIES:Breitensport, Wettkampfsport, MÜ30
CREATED:20230605T140541
SUMMARY:Veteranen-Team-Hessen: Gedächtnisturnier Schmalkalden
LOCATION:Schmalkalden
DESCRIPTION;ENCODING=QUOTED-PRINTABLE:<div class="viovendi-booking-widget" data-viovendi-locale="de-de" data-viov
 endi-event="134302" data-viovendi-organizer="5182" data-viovendi-widget-con
 fig-name="booking-5182-45211">&nbsp;</div><script src="https://doo.net/viov
 endi-embed.js" type="text/javascript" data-viovendi-version="1">      </scr
 ipt>
DTSTAMP:20260424T003959Z
DTSTART;TZID=Europe/Berlin;VALUE=DATE:20230902
DTEND;TZID=Europe/Berlin;VALUE=DATE:20230903
SEQUENCE:0
TRANSP:OPAQUE
END:VEVENT
END:VCALENDAR