BEGIN:VCALENDAR
VERSION:2.0
PRODID:-//jEvents 2.0 for Joomla//EN
CALSCALE:GREGORIAN
METHOD:PUBLISH
BEGIN:VTIMEZONE
TZID:Europe/Berlin
BEGIN:STANDARD
DTSTART:20221030T020000
RDATE:20230326T030000
TZOFFSETFROM:+0200
TZOFFSETTO:+0100
TZNAME:Europe/Berlin CET
END:STANDARD
BEGIN:DAYLIGHT
DTSTART:20220506T000000
RDATE:20221030T020000
TZOFFSETFROM:+0100
TZOFFSETTO:+0200
TZNAME:Europe/Berlin CEST
END:DAYLIGHT
END:VTIMEZONE
BEGIN:VEVENT
UID:fa83214ca4b3a727754f53e0ad68e5c7
CATEGORIES:MU11, MU13, MU15, FU11, FU13, FU15
CREATED:20230322T130937
SUMMARY:Offene UBBK West/Taunus
LOCATION:TSG Oberursel\, Füllerstraße 3 61440 Oberursel
DESCRIPTION;ENCODING=QUOTED-PRINTABLE:<p>Meldeschluss: 30.04.2023</p>
CONTACT:Benjamin Rottmann
DTSTAMP:20260421T162328Z
DTSTART;TZID=Europe/Berlin;VALUE=DATE:20230507
DTEND;TZID=Europe/Berlin;VALUE=DATE:20230508
SEQUENCE:0
TRANSP:OPAQUE
END:VEVENT
END:VCALENDAR