BEGIN:VCALENDAR
VERSION:2.0
PRODID:-//jEvents 2.0 for Joomla//EN
CALSCALE:GREGORIAN
METHOD:PUBLISH
BEGIN:VTIMEZONE
TZID:Europe/Berlin
BEGIN:STANDARD
DTSTART:20221030T020000
RDATE:20230326T030000
TZOFFSETFROM:+0200
TZOFFSETTO:+0100
TZNAME:Europe/Berlin CET
END:STANDARD
BEGIN:DAYLIGHT
DTSTART:20220827T000000
RDATE:20221030T020000
TZOFFSETFROM:+0100
TZOFFSETTO:+0200
TZNAME:Europe/Berlin CEST
END:DAYLIGHT
END:VTIMEZONE
BEGIN:VEVENT
UID:1e35f587e51e7c1ee183a2566c84b695
CATEGORIES:Lehrgänge, Prüfungswesen
CREATED:20230213T164218
SUMMARY:Dan-Lehrgang Kompakt mit Prüfung
LOCATION:Wettenberg
DESCRIPTION;ENCODING=QUOTED-PRINTABLE:&nbsp;      
CONTACT:Michaelo Walter
DTSTAMP:20260421T104843Z
DTSTART;TZID=Europe/Berlin;VALUE=DATE:20230828
DTEND;TZID=Europe/Berlin;VALUE=DATE:20230903
SEQUENCE:0
TRANSP:OPAQUE
END:VEVENT
END:VCALENDAR