BEGIN:VCALENDAR
VERSION:2.0
PRODID:-//jEvents 2.0 for Joomla//EN
CALSCALE:GREGORIAN
METHOD:PUBLISH
BEGIN:VTIMEZONE
TZID:Europe/Berlin
BEGIN:STANDARD
DTSTART:20220203T000000
RDATE:20220327T030000
TZOFFSETFROM:+0200
TZOFFSETTO:+0100
TZNAME:Europe/Berlin CET
END:STANDARD
BEGIN:STANDARD
DTSTART:20221030T020000
RDATE:20230326T030000
TZOFFSETFROM:+0200
TZOFFSETTO:+0100
TZNAME:Europe/Berlin CET
END:STANDARD
BEGIN:DAYLIGHT
DTSTART:20220327T030000
RDATE:20221030T020000
TZOFFSETFROM:+0100
TZOFFSETTO:+0200
TZNAME:Europe/Berlin CEST
END:DAYLIGHT
END:VTIMEZONE
BEGIN:VEVENT
UID:1b1623583258bf415fb815ac62a7e88b
CATEGORIES:Prüfungswesen
CREATED:20230125T143733
SUMMARY:Danvorbereitungslehrgang 
LOCATION:Gymnastikhalle der Blista\, Am Schlag 12\, Marburg
DESCRIPTION;ENCODING=QUOTED-PRINTABLE:<p>04.02.2023 Danvorbereitungslehrgang in Marburg</p><p>13-17 Uhr Gymnastik
 halle der Blista, Am Schlag 12</p><p>&nbsp;</p><p>Lehrgangsinhalt: Nage No 
 Kata und Prüfungsmodul 2: Stand</p><p>&nbsp;</p><p>Anmeldungen bitte an: <s
 pan id="cloakcd01110a0a7fbb2ae5c16c8588f1066e">Diese E-Mail-Adresse ist vor
  Spambots geschützt! Zur Anzeige muss JavaScript eingeschaltet sein!</span>
 <script type='text/javascript'>
				document.getElementById('cloakcd01110a0
 a7fbb2ae5c16c8588f1066e').innerHTML = '';
				var prefix = '&#109;a' + 'i&#
 108;' + '&#116;o';
				var path = 'hr' + 'ef' + '=';
				var addycd01110a0a
 7fbb2ae5c16c8588f1066e = '&#97;bt&#101;&#105;l&#117;ngsl&#101;&#105;t&#101;
 r' + '&#64;';
				addycd01110a0a7fbb2ae5c16c8588f1066e = addycd01110a0a7fbb
 2ae5c16c8588f1066e + 'j&#117;d&#111;-m&#97;rb&#117;rg' + '&#46;' + 'd&#101;
 ';
				var addy_textcd01110a0a7fbb2ae5c16c8588f1066e = '&#97;bt&#101;&#105;
 l&#117;ngsl&#101;&#105;t&#101;r' + '&#64;' + 'j&#117;d&#111;-m&#97;rb&#117;
 rg' + '&#46;' + 'd&#101;';document.getElementById('cloakcd01110a0a7fbb2ae5c
 16c8588f1066e').innerHTML += '<a ' + path + '\'' + prefix + ':' + addycd011
 10a0a7fbb2ae5c16c8588f1066e + '\'>'+addy_textcd01110a0a7fbb2ae5c16c8588f106
 6e+'<\/a>';
		</script></p><p>&nbsp;</p>
CONTACT:Werner Müller
X-EXTRAINFO:Anmeldungen bitte an: \nDiese E-Mail-Adresse ist vor Spambots geschützt! Zu
 r Anzeige muss JavaScript eingeschaltet sein!
				document.getElementById('
 cloak1584bf506bf9f7a0b0ece2f2fd0c0492').innerHTML = '';
				var prefix = '&
 #109;a' + 'i&#108;' + '&#116;o';
				var path = 'hr' + 'ef' + '=';
				var 
 addy1584bf506bf9f7a0b0ece2f2fd0c0492 = '&#97;bt&#101;&#105;l&#117;ngsl&#101
 ;&#105;t&#101;r' + '&#64;';
				addy1584bf506bf9f7a0b0ece2f2fd0c0492 = addy
 1584bf506bf9f7a0b0ece2f2fd0c0492 + 'j&#117;d&#111;-m&#97;rb&#117;rg' + '&#4
 6;' + 'd&#101;';
				var addy_text1584bf506bf9f7a0b0ece2f2fd0c0492 = '&#97;
 bt&#101;&#105;l&#117;ngsl&#101;&#105;t&#101;r' + '&#64;' + 'j&#117;d&#111;-
 m&#97;rb&#117;rg' + '&#46;' + 'd&#101;';document.getElementById('cloak1584b
 f506bf9f7a0b0ece2f2fd0c0492').innerHTML += ''+addy_text1584bf506bf9f7a0b0ec
 e2f2fd0c0492+'';
		
DTSTAMP:20260419T200500Z
DTSTART;TZID=Europe/Berlin;VALUE=DATE:20230204
DTEND;TZID=Europe/Berlin;VALUE=DATE:20230205
SEQUENCE:0
TRANSP:OPAQUE
END:VEVENT
END:VCALENDAR