BEGIN:VCALENDAR
VERSION:2.0
PRODID:-//jEvents 2.0 for Joomla//EN
CALSCALE:GREGORIAN
METHOD:PUBLISH
BEGIN:VTIMEZONE
TZID:Europe/Berlin
BEGIN:STANDARD
DTSTART:20221030T020000
RDATE:20230326T030000
TZOFFSETFROM:+0200
TZOFFSETTO:+0100
TZNAME:Europe/Berlin CET
END:STANDARD
BEGIN:DAYLIGHT
DTSTART:20220924T000000
RDATE:20221030T020000
TZOFFSETFROM:+0100
TZOFFSETTO:+0200
TZNAME:Europe/Berlin CEST
END:DAYLIGHT
END:VTIMEZONE
BEGIN:VEVENT
UID:dac1b4860f7048060d27656c1c887b45
CATEGORIES:MU15, FU15
CREATED:20230112T145144
SUMMARY:DJB Sichtungslehrgang Kienbaum  U15m/w
LOCATION: 15537 Grünheide/OT Kienbaum (Brandenburg)\, Puschkinstraße 2
DESCRIPTION;ENCODING=QUOTED-PRINTABLE:\n\nZentrale Sichtung Kienbaum U15/U17\n\n\nNominierung durch HJV\n\n\nhttp
 s://www.judobund.de/termine/#423071\n
CONTACT:HJV Jugendleitung 
DTSTAMP:20260419T200315Z
DTSTART;TZID=Europe/Berlin;VALUE=DATE:20230925
DTEND;TZID=Europe/Berlin;VALUE=DATE:20230929
SEQUENCE:0
TRANSP:OPAQUE
END:VEVENT
END:VCALENDAR