BEGIN:VCALENDAR
VERSION:2.0
PRODID:-//jEvents 2.0 for Joomla//EN
CALSCALE:GREGORIAN
METHOD:PUBLISH
BEGIN:VTIMEZONE
TZID:Europe/Berlin
BEGIN:STANDARD
DTSTART:20221030T020000
RDATE:20230326T030000
TZOFFSETFROM:+0200
TZOFFSETTO:+0100
TZNAME:Europe/Berlin CET
END:STANDARD
BEGIN:DAYLIGHT
DTSTART:20220911T000000
RDATE:20221030T020000
TZOFFSETFROM:+0100
TZOFFSETTO:+0200
TZNAME:Europe/Berlin CEST
END:DAYLIGHT
END:VTIMEZONE
BEGIN:VEVENT
UID:15145b6b0e936dbd845adc58903f65cc
CATEGORIES:MU15, MU18, FU15, FU18
CREATED:20230112T144718
SUMMARY:Landesrandori 8
LOCATION:Frankfurt lsbh
DESCRIPTION;ENCODING=QUOTED-PRINTABLE:<p>Landesrandori Lehrgang</p>
DTSTAMP:20260423T123021Z
DTSTART;TZID=Europe/Berlin;VALUE=DATE:20230912
DTEND;TZID=Europe/Berlin;VALUE=DATE:20230913
SEQUENCE:0
TRANSP:OPAQUE
END:VEVENT
END:VCALENDAR