BEGIN:VCALENDAR
VERSION:2.0
PRODID:-//jEvents 2.0 for Joomla//EN
CALSCALE:GREGORIAN
METHOD:PUBLISH
BEGIN:VTIMEZONE
TZID:Europe/Berlin
BEGIN:STANDARD
DTSTART:20220210T000000
RDATE:20220327T030000
TZOFFSETFROM:+0200
TZOFFSETTO:+0100
TZNAME:Europe/Berlin CET
END:STANDARD
BEGIN:STANDARD
DTSTART:20221030T020000
RDATE:20230326T030000
TZOFFSETFROM:+0200
TZOFFSETTO:+0100
TZNAME:Europe/Berlin CET
END:STANDARD
BEGIN:DAYLIGHT
DTSTART:20220327T030000
RDATE:20221030T020000
TZOFFSETFROM:+0100
TZOFFSETTO:+0200
TZNAME:Europe/Berlin CEST
END:DAYLIGHT
END:VTIMEZONE
BEGIN:VEVENT
UID:3c5c4bdd9e0444183b7f74b9497d733e
CATEGORIES:Wettkampfsport
CREATED:20221220T150254
SUMMARY:SWDEM U18
LOCATION:Heusweiler
DESCRIPTION;ENCODING=QUOTED-PRINTABLE:<p>SWDEM U18 in Heusweiler / Saarland</p>
CONTACT:HJV Jugendleitung 
DTSTAMP:20260419T181523Z
DTSTART;TZID=Europe/Berlin;VALUE=DATE:20230211
DTEND;TZID=Europe/Berlin;VALUE=DATE:20230212
SEQUENCE:0
TRANSP:OPAQUE
END:VEVENT
END:VCALENDAR