BEGIN:VCALENDAR
VERSION:2.0
PRODID:-//jEvents 2.0 for Joomla//EN
CALSCALE:GREGORIAN
METHOD:PUBLISH
BEGIN:VTIMEZONE
TZID:Europe/Berlin
BEGIN:STANDARD
DTSTART:20220127T000000
RDATE:20220327T030000
TZOFFSETFROM:+0200
TZOFFSETTO:+0100
TZNAME:Europe/Berlin CET
END:STANDARD
BEGIN:STANDARD
DTSTART:20221030T020000
RDATE:20230326T030000
TZOFFSETFROM:+0200
TZOFFSETTO:+0100
TZNAME:Europe/Berlin CET
END:STANDARD
BEGIN:DAYLIGHT
DTSTART:20220327T030000
RDATE:20221030T020000
TZOFFSETFROM:+0100
TZOFFSETTO:+0200
TZNAME:Europe/Berlin CEST
END:DAYLIGHT
END:VTIMEZONE
BEGIN:VEVENT
UID:e39f02099f3d22e159356c7efca7ef1d
CATEGORIES:MU18, FU18
CREATED:20221220T145938
SUMMARY:HJV Vorbereitungslehrgang U18 für HEM/SWEM
LOCATION:Dojo des JC Fulda\, Heinrich von Bibra Schule\, Busekstraße 5
DESCRIPTION;ENCODING=QUOTED-PRINTABLE:\n\nHJV Vorbereitungslehrgang für die U18 HEM/SWEM\n\n\n&nbsp;\n\n\nAnreise
  bis 09:45\n\n\n1 TE 10:00 - 12:00\n\n\n2. TE 13:00 - 15:00\n\n\nTrainer: v
 erantwortlicher Landestrainer der Altersklasse\n\n\n&nbsp;\n
CONTACT:HJV Jugendleitung 
DTSTAMP:20260421T161803Z
DTSTART;TZID=Europe/Berlin;VALUE=DATE:20230128
DTEND;TZID=Europe/Berlin;VALUE=DATE:20230129
SEQUENCE:0
TRANSP:OPAQUE
END:VEVENT
END:VCALENDAR