BEGIN:VCALENDAR
VERSION:2.0
PRODID:-//jEvents 2.0 for Joomla//EN
CALSCALE:GREGORIAN
METHOD:PUBLISH
BEGIN:VTIMEZONE
TZID:Europe/Berlin
BEGIN:STANDARD
DTSTART:20220203T000000
RDATE:20220327T030000
TZOFFSETFROM:+0200
TZOFFSETTO:+0100
TZNAME:Europe/Berlin CET
END:STANDARD
BEGIN:STANDARD
DTSTART:20221030T020000
RDATE:20230326T030000
TZOFFSETFROM:+0200
TZOFFSETTO:+0100
TZNAME:Europe/Berlin CET
END:STANDARD
BEGIN:DAYLIGHT
DTSTART:20220327T030000
RDATE:20221030T020000
TZOFFSETFROM:+0100
TZOFFSETTO:+0200
TZNAME:Europe/Berlin CEST
END:DAYLIGHT
END:VTIMEZONE
BEGIN:VEVENT
UID:dbd3167686fd90c9bad794248f6edcc9
CATEGORIES:MU18, FU18
CREATED:20221209T094813
SUMMARY:HEM U18
LOCATION:Sporthalle am 2. Ring\, Konrad-Adenauer-Ring 55\, 65187 Wiesbaden
DESCRIPTION;ENCODING=QUOTED-PRINTABLE:<p>Termin: <br />U18 am Samstag, den 04. Februar 2023<br /><br /></p><p>Waa
 ge:<br />Frauen von 10:00 - 10:30 Uhr<br />Männer von 11:00 - 11:30 Uhr</p>
 <p>HEM zur Qualifikation der SWDEM U18</p>
CONTACT:HJV Jugendleitung 
DTSTAMP:20260419T152436Z
DTSTART;TZID=Europe/Berlin;VALUE=DATE:20230204
DTEND;TZID=Europe/Berlin;VALUE=DATE:20230205
SEQUENCE:0
TRANSP:OPAQUE
END:VEVENT
END:VCALENDAR