BEGIN:VCALENDAR
VERSION:2.0
PRODID:-//jEvents 2.0 for Joomla//EN
CALSCALE:GREGORIAN
METHOD:PUBLISH
BEGIN:VTIMEZONE
TZID:Europe/Berlin
BEGIN:STANDARD
DTSTART:20220120T000000
RDATE:20220327T030000
TZOFFSETFROM:+0200
TZOFFSETTO:+0100
TZNAME:Europe/Berlin CET
END:STANDARD
BEGIN:STANDARD
DTSTART:20221030T020000
RDATE:20230326T030000
TZOFFSETFROM:+0200
TZOFFSETTO:+0100
TZNAME:Europe/Berlin CET
END:STANDARD
BEGIN:DAYLIGHT
DTSTART:20220327T030000
RDATE:20221030T020000
TZOFFSETFROM:+0100
TZOFFSETTO:+0200
TZNAME:Europe/Berlin CEST
END:DAYLIGHT
END:VTIMEZONE
BEGIN:VEVENT
UID:2b36bb5de6ff7fad4deed8c732cbc5de
CATEGORIES:Männer, MU21, Frauen, FU21
CREATED:20221209T092015
SUMMARY:Gruppenlehrgang 1
LOCATION:Speyer
DESCRIPTION;ENCODING=QUOTED-PRINTABLE:<p>Gruppenlehrgang 1 zur Vorbereitung der DEM U18/U21 MF</p><p>&nbsp;</p><p
 ><a href="https://judoverbandpfalz.de/event/21-01-2023-rheinland-pfalz-lehr
 gang-2/">Ausschreibung</a></p>
CONTACT:Sportwarte, Jugendleitung
DTSTAMP:20260419T200450Z
DTSTART;TZID=Europe/Berlin;VALUE=DATE:20230121
DTEND;TZID=Europe/Berlin;VALUE=DATE:20230122
SEQUENCE:0
TRANSP:OPAQUE
END:VEVENT
END:VCALENDAR