BEGIN:VCALENDAR
VERSION:2.0
PRODID:-//jEvents 2.0 for Joomla//EN
CALSCALE:GREGORIAN
METHOD:PUBLISH
BEGIN:VTIMEZONE
TZID:Europe/Berlin
BEGIN:STANDARD
DTSTART:20211201T000000
RDATE:20220327T030000
TZOFFSETFROM:+0200
TZOFFSETTO:+0100
TZNAME:Europe/Berlin CET
END:STANDARD
BEGIN:STANDARD
DTSTART:20221030T020000
RDATE:20230326T030000
TZOFFSETFROM:+0200
TZOFFSETTO:+0100
TZNAME:Europe/Berlin CET
END:STANDARD
BEGIN:DAYLIGHT
DTSTART:20220327T030000
RDATE:20221030T020000
TZOFFSETFROM:+0100
TZOFFSETTO:+0200
TZNAME:Europe/Berlin CEST
END:DAYLIGHT
END:VTIMEZONE
BEGIN:VEVENT
UID:74cce26e8e9d4958416f13ec0d95a6e9
CATEGORIES:MU15, FU15
CREATED:20221020T182943
SUMMARY:Deutsche-Vereins-Mannschaftsmeisterschaften U15
LOCATION:Niederlausitzhalle Senftenberg; Rudolf-Harbig-Str.\, 01968 Senftenberg
DESCRIPTION;ENCODING=QUOTED-PRINTABLE:<p>Deutscher-Vereins-mannschaftsmeisterschaften U15&nbsp; "Jugendpokal"</p>
 <p>Freitag, 02.12.2022 ab 17.30 Uhr Akkreditierung und Waage</p><p>Samstag,
  03.12.2022 ab 07.30 Uhr Akkreditierung und Waage (Nachzügler)<br />08.45 U
 hr Eröffnung, danach starten die Kämpfe</p>
CONTACT:Kim Linnebacher, DJB
DTSTAMP:20260419T195019Z
DTSTART;TZID=Europe/Berlin;VALUE=DATE:20221202
DTEND;TZID=Europe/Berlin;VALUE=DATE:20221204
SEQUENCE:0
TRANSP:OPAQUE
END:VEVENT
END:VCALENDAR