BEGIN:VCALENDAR
VERSION:2.0
PRODID:-//jEvents 2.0 for Joomla//EN
CALSCALE:GREGORIAN
METHOD:PUBLISH
BEGIN:VTIMEZONE
TZID:Europe/Berlin
BEGIN:STANDARD
DTSTART:20211201T000000
RDATE:20220327T030000
TZOFFSETFROM:+0200
TZOFFSETTO:+0100
TZNAME:Europe/Berlin CET
END:STANDARD
BEGIN:STANDARD
DTSTART:20221030T020000
RDATE:20230326T030000
TZOFFSETFROM:+0200
TZOFFSETTO:+0100
TZNAME:Europe/Berlin CET
END:STANDARD
BEGIN:DAYLIGHT
DTSTART:20220327T030000
RDATE:20221030T020000
TZOFFSETFROM:+0100
TZOFFSETTO:+0200
TZNAME:Europe/Berlin CEST
END:DAYLIGHT
END:VTIMEZONE
BEGIN:VEVENT
UID:c533ea41efaf919e37d7d82f4ddd74cb
CATEGORIES:MU12, MU13, MU14, MU15, FU12, FU13, FU14, FU15
CREATED:20221011T120033
SUMMARY:Jahresabschlusslehrgang U12 - U15
LOCATION:Jugendburg und Sportbildungsstätte Sensenstein\, Sensenstein 3-4\, 34329 Ni
 este
DESCRIPTION;ENCODING=QUOTED-PRINTABLE:<p>Anreise: Freitag bis 16:00 Uhr<br />Abreise: Sonntag nach dem Mittagesse
 n ab ca. 13:00 Uhr</p>
CONTACT:HJV Jugendleitung
DTSTAMP:20260419T195019Z
DTSTART;TZID=Europe/Berlin;VALUE=DATE:20221202
DTEND;TZID=Europe/Berlin;VALUE=DATE:20221205
SEQUENCE:0
TRANSP:OPAQUE
END:VEVENT
END:VCALENDAR